BEGIN:VCALENDAR
VERSION:2.0
PRODID:icalendar-ruby
CALSCALE:GREGORIAN
METHOD:PUBLISH
BEGIN:VEVENT
DTSTAMP:20260420T170637Z
UID:44ceca45-01d7-4751-9456-1ee834c8cd8b
DTSTART:20251031T200000
DTEND:20251101T020000
DESCRIPTION:<p><span style="color: rgb(34\, 34\, 34)\;">Ode An Basso is bac
 k with our Halloween Edition – Dark & dirty bassline’s\, killer vibes 
 & a dance floor full of creatures of the night…</span></p><p><br></p><p>
 Bringing you the hottest Tech House event series in SA ft Special Guest's 
 VIMO and JON S</p><p><br></p><p>Presale Tickets R50 - R100 at the door</p>
LOCATION:39 Gwi Gwi Mrwebi St\, Newtown\, Johannesburg\, 2113
SUMMARY:ODE AN BASSO Halloween Edition ft VIMO & JON S
URL;VALUE=URI:https://oab.howler.co.za/HalloweenEdition
END:VEVENT
END:VCALENDAR
